BEGIN:VCALENDAR
VERSION:2.0
PRODID:-//3nity.com//3nity CMS//EN
BEGIN:VEVENT
SUMMARY:Enable Account Training Zoom
UID:2025-07-17-1167937@tectonicchangeinc.org
SEQUENCE:0
STATUS:CONFIRMED
DTSTART:20250717T183000
DTEND:20250717T200000
DTSTAMP:20161222T120000
DESCRIPTION:Have concerns about losing benefits if you save too much money?\nJoin the Enable Account Training to find answers to this question and more.\n
URL:http://tectonicchangeinc.org
END:VEVENT
END:VCALENDAR
